BEGIN:VCALENDAR
VERSION:2.0
PRODID:-//CCRR - ECPv6.15.20//NONSGML v1.0//EN
CALSCALE:GREGORIAN
METHOD:PUBLISH
X-WR-CALNAME:CCRR
X-ORIGINAL-URL:https://childcarehelp.com
X-WR-CALDESC:Events for CCRR
REFRESH-INTERVAL;VALUE=DURATION:PT1H
X-Robots-Tag:noindex
X-PUBLISHED-TTL:PT1H
BEGIN:VTIMEZONE
TZID:UTC
BEGIN:STANDARD
TZOFFSETFROM:+0000
TZOFFSETTO:+0000
TZNAME:UTC
DTSTART:20250101T000000
END:STANDARD
END:VTIMEZONE
BEGIN:VEVENT
DTSTART;TZID=UTC:20260416T080000
DTEND;TZID=UTC:20260416T170000
DTSTAMP:20260422T215413
CREATED:20260410T144947Z
LAST-MODIFIED:20260410T144947Z
UID:2103-1776326400-1776358800@childcarehelp.com
SUMMARY:ASQ In-person Training
DESCRIPTION:Curious about Ages & Stages\nQuestionnaires? Then this training is for you!\nCompletely in person!\n\n🕔April 16th\, 2pm – 4pm\n📍801 N Larkin Ave\, Joliet IL\, 60433\n👤Fayeza Waris\n\nClick/Tap here to register!\nhttps://us02web.zoom.us/meeting/register/jjDF6\nWBbRx-AwgwTcrFTpQ#/registration
URL:https://childcarehelp.com/event/asq-in-person-training/
LOCATION:CCR&R\, 801 N Larkin Ave\, Joliet\, IL\, 60435\, United States
ATTACH;FMTTYPE=image/png:https://childcarehelp.com/wp-content/uploads/2026/03/April-16th-ASQ-Training.png
END:VEVENT
BEGIN:VEVENT
DTSTART;VALUE=DATE:20260418
DTEND;VALUE=DATE:20260419
DTSTAMP:20260422T215413
CREATED:20260224T163539Z
LAST-MODIFIED:20260402T150218Z
UID:2053-1776470400-1776556799@childcarehelp.com
SUMMARY:How Trauma Impacts Young Children
DESCRIPTION:
URL:https://childcarehelp.com/event/gateways-approved-training/
LOCATION:CCR&R\, 801 N Larkin Ave\, Joliet\, IL\, 60435\, United States
ATTACH;FMTTYPE=image/jpeg:https://childcarehelp.com/wp-content/uploads/2026/02/TRAMA.jpg
ORGANIZER;CN="Debra Wells":MAILTO:swash@childcarehelp.com
END:VEVENT
BEGIN:VEVENT
DTSTART;TZID=UTC:20260421T180000
DTEND;TZID=UTC:20260421T200000
DTSTAMP:20260422T215413
CREATED:20260421T155418Z
LAST-MODIFIED:20260421T155418Z
UID:2105-1776794400-1776801600@childcarehelp.com
SUMMARY:Self Care for Everyone
DESCRIPTION:Another great workshop hosted by Kathy Staten!\n\n\n\nApril 21st\, 6:00pm – 8:00pm\nOnline\n\n\n\nClick/Tap here to register!\nhttps://us02web.zoom.us/…/reg…/_PbUnir5RVSCXMeGAmp1jg…
URL:https://childcarehelp.com/event/self-care-for-everyone/
ATTACH;FMTTYPE=image/png:https://childcarehelp.com/wp-content/uploads/2026/03/April-21st-Self-Care-Sans-teacher-photo.png
END:VEVENT
BEGIN:VEVENT
DTSTART;TZID=UTC:20260422T183000
DTEND;TZID=UTC:20260422T200000
DTSTAMP:20260422T215413
CREATED:20260420T201209Z
LAST-MODIFIED:20260421T154409Z
UID:2341-1776882600-1776888000@childcarehelp.com
SUMMARY:Connecting and Collaborating With Families
DESCRIPTION:Get ready for this great\nworkshop hosted by Yolanda Richey!\n\n🕔April 22st\, 6:30pm – 8:00pm\n📍Online\n\nClick/Tap here to register!\nhttps://us02web.zoom.us/meeting/register/HP4\n-kEOvRM6i-HBUXt7dWQ#/registration
URL:https://childcarehelp.com/event/connecting-and-collaborating-with-families/
LOCATION:CCR&R\, 801 N Larkin Ave\, Joliet\, IL\, 60435\, United States
ATTACH;FMTTYPE=image/jpeg:https://childcarehelp.com/wp-content/uploads/2026/04/April-22nd-Connecting-and-Collaborating-Alt-1-Made-with-PosterMyWall-1.jpg
END:VEVENT
BEGIN:VEVENT
DTSTART;TZID=UTC:20260428T183000
DTEND;TZID=UTC:20260428T200000
DTSTAMP:20260422T215413
CREATED:20260421T215841Z
LAST-MODIFIED:20260421T220034Z
UID:2355-1777401000-1777406400@childcarehelp.com
SUMMARY:Supervision in Action
DESCRIPTION:Hey! Another great workshop coming up!\n\n\n \n\n\n🕔April 28th\, 6:30pm – 8:00pm\n\n\n📍Online\n\n\n \n\n\nClick/Tap here to register!\n\n\nhttps://us02web.zoom.us/meeting/register/nRfEkqfnRB2LqCph9dyvwg#/registration
URL:https://childcarehelp.com/event/supervision-in-action/
ATTACH;FMTTYPE=image/png:https://childcarehelp.com/wp-content/uploads/2026/04/April-28th-Supervision-in-Action-1.png
END:VEVENT
BEGIN:VEVENT
DTSTART;TZID=UTC:20260429T120000
DTEND;TZID=UTC:20260429T130000
DTSTAMP:20260422T215413
CREATED:20260421T220012Z
LAST-MODIFIED:20260421T220012Z
UID:2358-1777464000-1777467600@childcarehelp.com
SUMMARY:Teaching Without Worksheets
DESCRIPTION:April isn’t over yet! We got another workshop for you to check out!\n\n\n \n\n\n🕔April 29th\, 12:00pm – 1:00pm\n\n\n📍Online\n\n\n \n\n\nClick/Tap here to register!\n\n\nhttps://us02web.zoom.us/meeting/register/_ulEGQFFR2G9QABTso2UVw#/registration
URL:https://childcarehelp.com/event/teaching-without-worksheets/
ATTACH;FMTTYPE=image/png:https://childcarehelp.com/wp-content/uploads/2026/04/April-29th-Teaching-without-worksheets-1.png
END:VEVENT
END:VCALENDAR