BEGIN:VCALENDAR
VERSION:2.0
PRODID:-//CCRR - ECPv6.15.20//NONSGML v1.0//EN
CALSCALE:GREGORIAN
METHOD:PUBLISH
X-ORIGINAL-URL:https://childcarehelp.com
X-WR-CALDESC:Events for CCRR
REFRESH-INTERVAL;VALUE=DURATION:PT1H
X-Robots-Tag:noindex
X-PUBLISHED-TTL:PT1H
BEGIN:VTIMEZONE
TZID:America/Chicago
BEGIN:DAYLIGHT
TZOFFSETFROM:-0600
TZOFFSETTO:-0500
TZNAME:CDT
DTSTART:20230312T080000
END:DAYLIGHT
BEGIN:STANDARD
TZOFFSETFROM:-0500
TZOFFSETTO:-0600
TZNAME:CST
DTSTART:20231105T070000
END:STANDARD
BEGIN:DAYLIGHT
TZOFFSETFROM:-0600
TZOFFSETTO:-0500
TZNAME:CDT
DTSTART:20240310T080000
END:DAYLIGHT
BEGIN:STANDARD
TZOFFSETFROM:-0500
TZOFFSETTO:-0600
TZNAME:CST
DTSTART:20241103T070000
END:STANDARD
BEGIN:DAYLIGHT
TZOFFSETFROM:-0600
TZOFFSETTO:-0500
TZNAME:CDT
DTSTART:20250309T080000
END:DAYLIGHT
BEGIN:STANDARD
TZOFFSETFROM:-0500
TZOFFSETTO:-0600
TZNAME:CST
DTSTART:20251102T070000
END:STANDARD
BEGIN:DAYLIGHT
TZOFFSETFROM:-0600
TZOFFSETTO:-0500
TZNAME:CDT
DTSTART:20260308T080000
END:DAYLIGHT
BEGIN:STANDARD
TZOFFSETFROM:-0500
TZOFFSETTO:-0600
TZNAME:CST
DTSTART:20261101T070000
END:STANDARD
BEGIN:DAYLIGHT
TZOFFSETFROM:-0600
TZOFFSETTO:-0500
TZNAME:CDT
DTSTART:20270314T080000
END:DAYLIGHT
BEGIN:STANDARD
TZOFFSETFROM:-0500
TZOFFSETTO:-0600
TZNAME:CST
DTSTART:20271107T070000
END:STANDARD
END:VTIMEZONE
BEGIN:VTIMEZONE
TZID:UTC
BEGIN:STANDARD
TZOFFSETFROM:+0000
TZOFFSETTO:+0000
TZNAME:UTC
DTSTART:20230101T000000
END:STANDARD
END:VTIMEZONE
BEGIN:VEVENT
DTSTART;TZID=America/Chicago:20240507T183000
DTEND;TZID=America/Chicago:20240507T200000
DTSTAMP:20260422T215917
CREATED:20240514T163622Z
LAST-MODIFIED:20240514T163622Z
UID:1193-1715106600-1715112000@childcarehelp.com
SUMMARY:Co-Teaching: How to Make it Work with Sabrina Robertson
DESCRIPTION:
URL:https://childcarehelp.com/event/co-teaching-how-to-make-it-work-with-sabrina-robertson/
END:VEVENT
BEGIN:VEVENT
DTSTART;TZID=America/Chicago:20240508T183000
DTEND;TZID=America/Chicago:20240508T200000
DTSTAMP:20260422T215917
CREATED:20240514T163813Z
LAST-MODIFIED:20240514T164619Z
UID:1198-1715193000-1715198400@childcarehelp.com
SUMMARY:Happiness\, Joy and Playfulness in ECE with Ellen Drolett
DESCRIPTION:
URL:https://childcarehelp.com/event/happiness-joy-and-playfulness-in-ece-with-ellen-drolett/
END:VEVENT
BEGIN:VEVENT
DTSTART;TZID=America/Chicago:20240514T183000
DTEND;TZID=America/Chicago:20240514T193000
DTSTAMP:20260422T215917
CREATED:20240514T163938Z
LAST-MODIFIED:20240514T163938Z
UID:1200-1715711400-1715715000@childcarehelp.com
SUMMARY:Appropriate Expectations: Communicating with Children and Families with Carrie Becker
DESCRIPTION:
URL:https://childcarehelp.com/event/appropriate-expectations-communicating-with-children-and-families-with-carrie-becker/
END:VEVENT
BEGIN:VEVENT
DTSTART;TZID=America/Chicago:20240522T183000
DTEND;TZID=America/Chicago:20240522T200000
DTSTAMP:20260422T215917
CREATED:20240514T164135Z
LAST-MODIFIED:20240514T164135Z
UID:1217-1716402600-1716408000@childcarehelp.com
SUMMARY:Effective Communication Techniques with Erica Miller
DESCRIPTION:
URL:https://childcarehelp.com/event/effective-communication-techniques-with-erica-miller/
END:VEVENT
BEGIN:VEVENT
DTSTART;TZID=America/Chicago:20240523T183000
DTEND;TZID=America/Chicago:20240523T200000
DTSTAMP:20260422T215917
CREATED:20240514T164244Z
LAST-MODIFIED:20240514T164244Z
UID:1220-1716489000-1716494400@childcarehelp.com
SUMMARY:Inclusion is for Everyone with Sabrina Robertson
DESCRIPTION:
URL:https://childcarehelp.com/event/inclusion-is-for-everyone-with-sabrina-robertson/
END:VEVENT
BEGIN:VEVENT
DTSTART;TZID=America/Chicago:20240529T183000
DTEND;TZID=America/Chicago:20240529T193000
DTSTAMP:20260422T215917
CREATED:20240514T164531Z
LAST-MODIFIED:20240514T164531Z
UID:1222-1717007400-1717011000@childcarehelp.com
SUMMARY:Recognizing Unhelpful Thoughts and How to Combat Them with Melissa Pickle
DESCRIPTION:
URL:https://childcarehelp.com/event/recognizing-unhelpful-thoughts-and-how-to-combat-them-with-melissa-pickle/
END:VEVENT
BEGIN:VEVENT
DTSTART;TZID=UTC:20240607T183000
DTEND;TZID=UTC:20240607T200000
DTSTAMP:20260422T215917
CREATED:20240529T164914Z
LAST-MODIFIED:20240529T164914Z
UID:1307-1717785000-1717790400@childcarehelp.com
SUMMARY:Inclusion is for Everyone with Sabrina Robertson
DESCRIPTION:
URL:https://childcarehelp.com/event/inclusion-is-for-everyone-with-sabrina-robertson-2/
END:VEVENT
BEGIN:VEVENT
DTSTART;TZID=UTC:20240611T183000
DTEND;TZID=UTC:20240611T200000
DTSTAMP:20260422T215917
CREATED:20240529T165202Z
LAST-MODIFIED:20240529T165202Z
UID:1309-1718130600-1718136000@childcarehelp.com
SUMMARY:Working with Children with Challenging Behaviors with Sabrina Robertson
DESCRIPTION:
URL:https://childcarehelp.com/event/working-with-children-with-challenging-behaviors-with-sabrina-robertson/
END:VEVENT
BEGIN:VEVENT
DTSTART;TZID=UTC:20240612T183000
DTEND;TZID=UTC:20240612T200000
DTSTAMP:20260422T215917
CREATED:20240529T165354Z
LAST-MODIFIED:20240529T165354Z
UID:1311-1718217000-1718222400@childcarehelp.com
SUMMARY:Overcoming Burn-Out with Janna Aldrich
DESCRIPTION:
URL:https://childcarehelp.com/event/overcoming-burn-out-with-janna-aldrich/
END:VEVENT
BEGIN:VEVENT
DTSTART;TZID=UTC:20240618T183000
DTEND;TZID=UTC:20240618T200000
DTSTAMP:20260422T215917
CREATED:20240529T165511Z
LAST-MODIFIED:20240529T165511Z
UID:1313-1718735400-1718740800@childcarehelp.com
SUMMARY:Play the Wiggles Away with Amy Nelson
DESCRIPTION:
URL:https://childcarehelp.com/event/play-the-wiggles-away-with-amy-nelson/
END:VEVENT
BEGIN:VEVENT
DTSTART;VALUE=DATE:20240619
DTEND;VALUE=DATE:20240620
DTSTAMP:20260422T215917
CREATED:20240529T165620Z
LAST-MODIFIED:20240529T165620Z
UID:1315-1718755200-1718841599@childcarehelp.com
SUMMARY:CCR&R offices closed for Juneteenth
DESCRIPTION:
URL:https://childcarehelp.com/event/ccrr-offices-closed-for-juneteenth/
END:VEVENT
BEGIN:VEVENT
DTSTART;TZID=UTC:20240620T183000
DTEND;TZID=UTC:20240620T203000
DTSTAMP:20260422T215917
CREATED:20240529T170320Z
LAST-MODIFIED:20240529T181810Z
UID:1319-1718908200-1718915400@childcarehelp.com
SUMMARY:Using Visual Aids to Promote Positive Behavior with Linda Schumacher
DESCRIPTION:
URL:https://childcarehelp.com/event/using-visual-aids-to-promote-positive-behavior-with-linda-schumacher/
END:VEVENT
BEGIN:VEVENT
DTSTART;TZID=UTC:20240627T183000
DTEND;TZID=UTC:20240627T193000
DTSTAMP:20260422T215917
CREATED:20240529T170118Z
LAST-MODIFIED:20240529T170118Z
UID:1317-1719513000-1719516600@childcarehelp.com
SUMMARY:Recognizing Unhelpful Thoughts with Melissa Pickle
DESCRIPTION:
URL:https://childcarehelp.com/event/recognizing-unhelpful-thoughts-with-melissa-pickle/
END:VEVENT
BEGIN:VEVENT
DTSTART;TZID=UTC:20240801T183000
DTEND;TZID=UTC:20240801T200000
DTSTAMP:20260422T215917
CREATED:20240807T224411Z
LAST-MODIFIED:20240807T224411Z
UID:1375-1722537000-1722542400@childcarehelp.com
SUMMARY:Using Visual Communication Aids to Promote Positive Behavior with Linda Schumacher
DESCRIPTION:
URL:https://childcarehelp.com/event/using-visual-communication-aids-to-promote-positive-behavior-with-linda-schumacher/
END:VEVENT
BEGIN:VEVENT
DTSTART;TZID=UTC:20240810T090000
DTEND;TZID=UTC:20240810T130000
DTSTAMP:20260422T215917
CREATED:20240809T232246Z
LAST-MODIFIED:20240809T233046Z
UID:1414-1723280400-1723294800@childcarehelp.com
SUMMARY:First Aid & CPR – Kankakee – Free to Child Care Providers
DESCRIPTION:Arcade/Clock Tower Bld\, 187 S. Schuyler Ave.\nSpace is limited. Register today. Preregistration is mandatory! \nYou must have a Gateways Registry number and currently providing child care to register.\nPlease don’t assume you’ve been registered for a CPR class without verbal or written confirmation from CCRR. \nChildren and persons not enrolled in the course may not attend! \nNOTE: It can take up to 14 business days to receive your CPR Card. \nFor Information: Call 815-741-1163 X 228 or email dwells@childcarehelp.com \n 
URL:https://childcarehelp.com/event/first-aid-cpr-kankakee-free-to-child-care-providers/
END:VEVENT
BEGIN:VEVENT
DTSTART;TZID=UTC:20240814T180000
DTEND;TZID=UTC:20240814T220000
DTSTAMP:20260422T215917
CREATED:20240809T230603Z
LAST-MODIFIED:20240809T231030Z
UID:1400-1723658400-1723672800@childcarehelp.com
SUMMARY:First Aid & CPR – Joliet – Free to Child Care Providers
DESCRIPTION:801 N. Larkin Ave.\, Suite 202\nSpace is limited. Register today. Preregistration is mandatory! \nYou must have a Gateways Registry number and currently providing child care to register.\nPlease don’t assume you’ve been registered for a CPR class without verbal or written confirmation from CCRR. \nChildren and persons not enrolled in the course may not attend! \nNOTE: It can take up to 14 business days to receive your CPR Card. \nFor Information: Call 815-741-1163 X 228 or email dwells@childcarehelp.com
URL:https://childcarehelp.com/event/first-aid-cpr-joliet-free-to-child-care-providers/
END:VEVENT
BEGIN:VEVENT
DTSTART;TZID=UTC:20240817T100000
DTEND;TZID=UTC:20240817T140000
DTSTAMP:20260422T215917
CREATED:20240807T223206Z
LAST-MODIFIED:20240807T223206Z
UID:1363-1723888800-1723903200@childcarehelp.com
SUMMARY:Intro to ERS at Kankakee YMCA
DESCRIPTION:
URL:https://childcarehelp.com/event/intro-to-ers-at-kankakee-ymca/
END:VEVENT
BEGIN:VEVENT
DTSTART;TZID=UTC:20240820T183000
DTEND;TZID=UTC:20240820T193000
DTSTAMP:20260422T215917
CREATED:20240807T223717Z
LAST-MODIFIED:20240807T223717Z
UID:1365-1724178600-1724182200@childcarehelp.com
SUMMARY:Recognizing Unhelpful Thoughts with Melissa Pickle
DESCRIPTION:
URL:https://childcarehelp.com/event/recognizing-unhelpful-thoughts-with-melissa-pickle-2/
END:VEVENT
BEGIN:VEVENT
DTSTART;TZID=UTC:20240821T183000
DTEND;TZID=UTC:20240821T200000
DTSTAMP:20260422T215917
CREATED:20240807T223841Z
LAST-MODIFIED:20240807T223841Z
UID:1367-1724265000-1724270400@childcarehelp.com
SUMMARY:Effective Communication Techniques with Erica Miller
DESCRIPTION:
URL:https://childcarehelp.com/event/effective-communication-techniques-with-erica-miller-2/
END:VEVENT
BEGIN:VEVENT
DTSTART;TZID=UTC:20240822T183000
DTEND;TZID=UTC:20240822T200000
DTSTAMP:20260422T215917
CREATED:20240807T223937Z
LAST-MODIFIED:20240807T223937Z
UID:1369-1724351400-1724356800@childcarehelp.com
SUMMARY:Overcoming Burn-Out with Janna Aldrich
DESCRIPTION:
URL:https://childcarehelp.com/event/overcoming-burn-out-with-janna-aldrich-2/
END:VEVENT
BEGIN:VEVENT
DTSTART;TZID=UTC:20240824T090000
DTEND;TZID=UTC:20240824T130000
DTSTAMP:20260422T215917
CREATED:20240809T231317Z
LAST-MODIFIED:20240809T231317Z
UID:1405-1724490000-1724504400@childcarehelp.com
SUMMARY:First Aid & CPR – Joliet – Free to Child Care Providers
DESCRIPTION:801 N. Larkin Ave.\, Suite 202\nSpace is limited. Register today. Preregistration is mandatory! \nYou must have a Gateways Registry number and currently providing child care to register.\nPlease don’t assume you’ve been registered for a CPR class without verbal or written confirmation from CCRR. \nChildren and persons not enrolled in the course may not attend! \nNOTE: It can take up to 14 business days to receive your CPR Card. \nFor Information: Call 815-741-1163 X 228 or email dwells@childcarehelp.com
URL:https://childcarehelp.com/event/first-aid-cpr-joliet-free-to-child-care-providers-2/
END:VEVENT
BEGIN:VEVENT
DTSTART;TZID=UTC:20240824T140000
DTEND;TZID=UTC:20240824T180000
DTSTAMP:20260422T215917
CREATED:20240809T231516Z
LAST-MODIFIED:20240809T231548Z
UID:1407-1724508000-1724522400@childcarehelp.com
SUMMARY:First Aid & CPR – Joliet – Free to Child Care Providers
DESCRIPTION:801 N. Larkin Ave.\, Suite 202\nSpace is limited. Register today. Preregistration is mandatory! \nYou must have a Gateways Registry number and currently providing child care to register.\nPlease don’t assume you’ve been registered for a CPR class without verbal or written confirmation from CCRR. \nChildren and persons not enrolled in the course may not attend! \nNOTE: It can take up to 14 business days to receive your CPR Card. \nFor Information: Call 815-741-1163 X 228 or email dwells@childcarehelp.com
URL:https://childcarehelp.com/event/first-aid-cpr-joliet-free-to-child-care-providers-3/
END:VEVENT
BEGIN:VEVENT
DTSTART;TZID=UTC:20240827T183000
DTEND;TZID=UTC:20240827T203000
DTSTAMP:20260422T215917
CREATED:20240807T224029Z
LAST-MODIFIED:20240807T224029Z
UID:1371-1724783400-1724790600@childcarehelp.com
SUMMARY:Outdoor Play and Learning with Linda Schumacher
DESCRIPTION:
URL:https://childcarehelp.com/event/outdoor-play-and-learning-with-linda-schumacher/
END:VEVENT
BEGIN:VEVENT
DTSTART;TZID=UTC:20240829T183000
DTEND;TZID=UTC:20240829T200000
DTSTAMP:20260422T215917
CREATED:20240807T224129Z
LAST-MODIFIED:20240807T224129Z
UID:1373-1724956200-1724961600@childcarehelp.com
SUMMARY:Be Kind to Yourself with Wendy O’Leary
DESCRIPTION:
URL:https://childcarehelp.com/event/be-kind-to-yourself-with-wendy-oleary/
END:VEVENT
BEGIN:VEVENT
DTSTART;TZID=UTC:20240907T090000
DTEND;TZID=UTC:20240907T130000
DTSTAMP:20260422T215917
CREATED:20240809T232412Z
LAST-MODIFIED:20240809T232716Z
UID:1417-1725699600-1725714000@childcarehelp.com
SUMMARY:First Aid & CPR – Kankakee – Free to Child Care Providers
DESCRIPTION:Arcade/Clock Tower Bld\, 187 S. Schuyler Ave.\nSpace is limited. Register today. Preregistration is mandatory! \nYou must have a Gateways Registry number and currently providing child care to register.\nPlease don’t assume you’ve been registered for a CPR class without verbal or written confirmation from CCRR. \nChildren and persons not enrolled in the course may not attend! \nNOTE: It can take up to 14 business days to receive your CPR Card. \nFor Information: Call 815-741-1163 X 228 or email dwells@childcarehelp.com
URL:https://childcarehelp.com/event/first-aid-cpr-kankakee-free-to-child-care-providers-2/
END:VEVENT
BEGIN:VEVENT
DTSTART;TZID=UTC:20240912T180000
DTEND;TZID=UTC:20240912T220000
DTSTAMP:20260422T215917
CREATED:20240809T231810Z
LAST-MODIFIED:20240809T231810Z
UID:1410-1726164000-1726178400@childcarehelp.com
SUMMARY:First Aid & CPR – Joliet – Free to Child Care Providers
DESCRIPTION:801 N. Larkin Ave.\, Suite 202\nSpace is limited. Register today. Preregistration is mandatory! \nYou must have a Gateways Registry number and currently providing child care to register.\nPlease don’t assume you’ve been registered for a CPR class without verbal or written confirmation from CCRR. \nChildren and persons not enrolled in the course may not attend! \nNOTE: It can take up to 14 business days to receive your CPR Card. \nFor Information: Call 815-741-1163 X 228 or email dwells@childcarehelp.com
URL:https://childcarehelp.com/event/first-aid-cpr-joliet-free-to-child-care-providers-4/
END:VEVENT
BEGIN:VEVENT
DTSTART;TZID=UTC:20240921T090000
DTEND;TZID=UTC:20240921T130000
DTSTAMP:20260422T215917
CREATED:20240809T231903Z
LAST-MODIFIED:20240809T232532Z
UID:1412-1726909200-1726923600@childcarehelp.com
SUMMARY:First Aid & CPR – Joliet – Free to Child Care Providers
DESCRIPTION:801 N. Larkin Ave.\, Suite 202\nSpace is limited. Register today. Preregistration is mandatory! \nYou must have a Gateways Registry number and currently providing child care to register.\nPlease don’t assume you’ve been registered for a CPR class without verbal or written confirmation from CCRR. \nChildren and persons not enrolled in the course may not attend! \nNOTE: It can take up to 14 business days to receive your CPR Card. \nFor Information: Call 815-741-1163 X 228 or email dwells@childcarehelp.com \nFirst Aid & CPR – Joliet – Free to Child Care Providers
URL:https://childcarehelp.com/event/1412/
END:VEVENT
BEGIN:VEVENT
DTSTART;TZID=UTC:20260311T120000
DTEND;TZID=UTC:20260311T130000
DTSTAMP:20260422T215917
CREATED:20260306T204932Z
LAST-MODIFIED:20260306T204932Z
UID:2107-1773230400-1773234000@childcarehelp.com
SUMMARY:Creating Positive Workplace Communication: A Focus on Gossip
DESCRIPTION:Gossip \nAlthough gossip can seem ordinary in our early childhood programs\, we should never underestimate its damaging effects on educator relationships. This workshop will examine how to support communication and stop gossip.
URL:https://childcarehelp.com/event/creating-positive-workplace-communication-a-focus-on-gossip/
ATTACH;FMTTYPE=image/png:https://childcarehelp.com/wp-content/uploads/2026/03/March-11th-Workshop-flyer-compressed.png
END:VEVENT
BEGIN:VEVENT
DTSTART;TZID=UTC:20260311T130000
DTEND;TZID=UTC:20260311T140000
DTSTAMP:20260422T215917
CREATED:20260305T174240Z
LAST-MODIFIED:20260305T174240Z
UID:2081-1773234000-1773237600@childcarehelp.com
SUMMARY:ECE HUB Meeting
DESCRIPTION:Make sure to join us for this ECE HUB meeting on March 11th 2026! \nECE Professionals will meet to discuss all things early childhood! \nClick/Tap here to register! \nhttps://us02web.zoom.us/meeting/register/aXXmXtHTTmuxI1Y1_Xcdzw#/registration \n  \nClick/tap here to RSVP for in-person attendance! \nhttps://forms.gle/sgAL27jKSVhyNyxm9
URL:https://childcarehelp.com/event/ece-hub-meeting/
LOCATION:CCR&R\, 801 N Larkin Ave\, Joliet\, IL\, 60435\, United States
ATTACH;FMTTYPE=image/jpeg:https://childcarehelp.com/wp-content/uploads/2026/03/March-11th-Flyer-new-ver-Made-with-PosterMyWall.jpg
END:VEVENT
BEGIN:VEVENT
DTSTART;TZID=America/Chicago:20260317T183000
DTEND;TZID=America/Chicago:20260317T200000
DTSTAMP:20260422T215917
CREATED:20260305T173045Z
LAST-MODIFIED:20260305T173045Z
UID:2076-1773772200-1773777600@childcarehelp.com
SUMMARY:Workshop: Using Developmental Screenings to Support Growth in Young Children
DESCRIPTION:  \n  \nThis training provides an overview of developmental milestones and the role of screenings in identifying and supporting children’s growth from birth through early childhood. Participants will explore commonly used developmental screening tools\, learn how to observe and document developmental progress\, and understand when and how to share concerns with families. The session emphasizes using screening results to guide individualized supports\, strengthen family partnerships\, and connect children to early intervention resources when needed—all while maintaining respectful\, strengths-based practices. \n  \nTrainer: Yolanda Ritchey \nTime: 6:30pm – 8:00Pm \nLocation: Zoom \nClick/Tap here to register! \nhttps://us02web.zoom.us/meeting/register/lvayTPZdQ4emrrOPHsZgGw#/registration
URL:https://childcarehelp.com/event/workshop-using-developmental-screenings-to-support-growth-in-young-children/
ATTACH;FMTTYPE=image/png:https://childcarehelp.com/wp-content/uploads/2026/03/March-17th-Workshop.png
END:VEVENT
END:VCALENDAR