BEGIN:VCALENDAR
VERSION:2.0
PRODID:-//CCRR - ECPv6.15.20//NONSGML v1.0//EN
CALSCALE:GREGORIAN
METHOD:PUBLISH
X-WR-CALNAME:CCRR
X-ORIGINAL-URL:https://childcarehelp.com
X-WR-CALDESC:Events for CCRR
REFRESH-INTERVAL;VALUE=DURATION:PT1H
X-Robots-Tag:noindex
X-PUBLISHED-TTL:PT1H
BEGIN:VTIMEZONE
TZID:UTC
BEGIN:STANDARD
TZOFFSETFROM:+0000
TZOFFSETTO:+0000
TZNAME:UTC
DTSTART:20230101T000000
END:STANDARD
END:VTIMEZONE
BEGIN:VEVENT
DTSTART;TZID=UTC:20240912T180000
DTEND;TZID=UTC:20240912T220000
DTSTAMP:20260422T142330
CREATED:20240809T231810Z
LAST-MODIFIED:20240809T231810Z
UID:1410-1726164000-1726178400@childcarehelp.com
SUMMARY:First Aid & CPR – Joliet – Free to Child Care Providers
DESCRIPTION:801 N. Larkin Ave.\, Suite 202\nSpace is limited. Register today. Preregistration is mandatory! \nYou must have a Gateways Registry number and currently providing child care to register.\nPlease don’t assume you’ve been registered for a CPR class without verbal or written confirmation from CCRR. \nChildren and persons not enrolled in the course may not attend! \nNOTE: It can take up to 14 business days to receive your CPR Card. \nFor Information: Call 815-741-1163 X 228 or email dwells@childcarehelp.com
URL:https://childcarehelp.com/event/first-aid-cpr-joliet-free-to-child-care-providers-4/
END:VEVENT
END:VCALENDAR